BEGIN:VCALENDAR
VERSION:2.0
PRODID:-//Squash Eesti - ECPv6.11.2//NONSGML v1.0//EN
CALSCALE:GREGORIAN
METHOD:PUBLISH
X-ORIGINAL-URL:https://squash.ee/en/
X-WR-CALDESC:Events for Squash Eesti
REFRESH-INTERVAL;VALUE=DURATION:PT1H
X-Robots-Tag:noindex
X-PUBLISHED-TTL:PT1H
BEGIN:VTIMEZONE
TZID:Europe/Helsinki
BEGIN:DAYLIGHT
TZOFFSETFROM:+0200
TZOFFSETTO:+0300
TZNAME:EEST
DTSTART:20210328T010000
END:DAYLIGHT
BEGIN:STANDARD
TZOFFSETFROM:+0300
TZOFFSETTO:+0200
TZNAME:EET
DTSTART:20211031T010000
END:STANDARD
BEGIN:DAYLIGHT
TZOFFSETFROM:+0200
TZOFFSETTO:+0300
TZNAME:EEST
DTSTART:20220327T010000
END:DAYLIGHT
BEGIN:STANDARD
TZOFFSETFROM:+0300
TZOFFSETTO:+0200
TZNAME:EET
DTSTART:20221030T010000
END:STANDARD
END:VTIMEZONE
BEGIN:VTIMEZONE
TZID:UTC
BEGIN:STANDARD
TZOFFSETFROM:+0000
TZOFFSETTO:+0000
TZNAME:UTC
DTSTART:20210101T000000
END:STANDARD
END:VTIMEZONE
BEGIN:VEVENT
DTSTART;TZID=Europe/Helsinki:20220515T100000
DTEND;TZID=Europe/Helsinki:20220515T180000
DTSTAMP:20260421T022243
CREATED:20211108T144645Z
LAST-MODIFIED:20211109T090856Z
UID:3981-1652608800-1652637600@squash.ee
SUMMARY:Eesti Meistrivõistlused juunioridele ja seenioridele 2022
DESCRIPTION:Eesti meistrivõistlused juunioridele ja seenioridele squashis 2022 toimuvad Forus Spordikeskuses
URL:https://squash.ee/en/uritus/eesti-meistrivoistlused-juunioridele-ja-seenioridele-2022/
LOCATION:Forus Spordikeskus\, Sõjakooli 10\, Tallinn\, Tallinn\, Harjumaa\, Eesti
ORGANIZER;CN="Eesti Squashif%C3%B6deratsioon":MAILTO:info@squash.ee
END:VEVENT
BEGIN:VEVENT
DTSTART;TZID=Europe/Helsinki:20220514T100000
DTEND;TZID=Europe/Helsinki:20220515T170000
DTSTAMP:20260421T022243
CREATED:20211026T201633Z
LAST-MODIFIED:20211026T201633Z
UID:3955-1652522400-1652634000@squash.ee
SUMMARY:Eesti Meistrivõistlused 2022
DESCRIPTION:Eesti Meistrivõistlused squashis 2022 toimuvad Forus Spordikeskuses
URL:https://squash.ee/en/uritus/eesti-meistrivoistlused-2022/
LOCATION:Forus Spordikeskus\, Sõjakooli 10\, Tallinn\, Tallinn\, Harjumaa\, Eesti
ORGANIZER;CN="Eesti Squashif%C3%B6deratsioon":MAILTO:info@squash.ee
END:VEVENT
BEGIN:VEVENT
DTSTART;TZID=UTC:20211016T100000
DTEND;TZID=UTC:20211017T190000
DTSTAMP:20260421T022243
CREATED:20210217T095143Z
LAST-MODIFIED:20210902T082031Z
UID:3395-1634378400-1634497200@squash.ee
SUMMARY:Eesti Meistrivõistlused 2021
DESCRIPTION:Eesti Meistrivõistlused squashis 2021 toimuvad Forus Spordikeskuses
URL:https://squash.ee/en/uritus/eesti-meistrivoistlused/
LOCATION:Forus Spordikeskus\, Sõjakooli 10\, Tallinn\, Tallinn\, Harjumaa\, Eesti
ORGANIZER;CN="Eesti Squashif%C3%B6deratsioon":MAILTO:info@squash.ee
END:VEVENT
BEGIN:VEVENT
DTSTART;TZID=Europe/Helsinki:20210213T100000
DTEND;TZID=Europe/Helsinki:20210214T190000
DTSTAMP:20260421T022243
CREATED:20210228T223702Z
LAST-MODIFIED:20210228T223702Z
UID:3640-1613210400-1613329200@squash.ee
SUMMARY:Eesti Meistrivõistlused EDASI LÜKATUD
DESCRIPTION:Eesti Meistrivõistlused on edasi lükatud maikuusse.
URL:https://squash.ee/en/uritus/eesti-meistrivoistlused-edasi-lukatud/
LOCATION:Tondi Tennisekeskus\, Sõjakooli 10\, Tallinn\, Tallinn\, Harjumaa\, Eesti
ORGANIZER;CN="Eesti Squashif%C3%B6deratsioon":MAILTO:info@squash.ee
END:VEVENT
END:VCALENDAR