BEGIN:VCALENDAR
VERSION:2.0
PRODID:-//Squash Eesti - ECPv6.11.2//NONSGML v1.0//EN
CALSCALE:GREGORIAN
METHOD:PUBLISH
X-WR-CALNAME:Squash Eesti
X-ORIGINAL-URL:https://squash.ee
X-WR-CALDESC:Events for Squash Eesti
REFRESH-INTERVAL;VALUE=DURATION:PT1H
X-Robots-Tag:noindex
X-PUBLISHED-TTL:PT1H
BEGIN:VTIMEZONE
TZID:Europe/Helsinki
BEGIN:DAYLIGHT
TZOFFSETFROM:+0200
TZOFFSETTO:+0300
TZNAME:EEST
DTSTART:20220327T010000
END:DAYLIGHT
BEGIN:STANDARD
TZOFFSETFROM:+0300
TZOFFSETTO:+0200
TZNAME:EET
DTSTART:20221030T010000
END:STANDARD
END:VTIMEZONE
BEGIN:VEVENT
DTSTART;TZID=Europe/Helsinki:20221217T100000
DTEND;TZID=Europe/Helsinki:20221217T170000
DTSTAMP:20260420T125539
CREATED:20220814T191806Z
LAST-MODIFIED:20220814T191806Z
UID:4281-1671271200-1671296400@squash.ee
SUMMARY:Tartu MV III etapp
DESCRIPTION:
URL:https://squash.ee/uritus/tartu-mv-iii-etapp-2/
LOCATION:Ihaste Spordimaja\, Pallase pst 20\, Tartu\, 51011\, Eesti
END:VEVENT
END:VCALENDAR