BEGIN:VCALENDAR
VERSION:2.0
PRODID:-//Squash Eesti - ECPv6.11.2//NONSGML v1.0//EN
CALSCALE:GREGORIAN
METHOD:PUBLISH
X-ORIGINAL-URL:https://squash.ee
X-WR-CALDESC:Events for Squash Eesti
REFRESH-INTERVAL;VALUE=DURATION:PT1H
X-Robots-Tag:noindex
X-PUBLISHED-TTL:PT1H
BEGIN:VTIMEZONE
TZID:Europe/Tallinn
BEGIN:DAYLIGHT
TZOFFSETFROM:+0200
TZOFFSETTO:+0300
TZNAME:EEST
DTSTART:20250330T010000
END:DAYLIGHT
BEGIN:STANDARD
TZOFFSETFROM:+0300
TZOFFSETTO:+0200
TZNAME:EET
DTSTART:20251026T010000
END:STANDARD
END:VTIMEZONE
BEGIN:VEVENT
DTSTART;TZID=Europe/Tallinn:20251115T100000
DTEND;TZID=Europe/Tallinn:20251115T170000
DTSTAMP:20260421T092042
CREATED:20250719T124149Z
LAST-MODIFIED:20250812T032117Z
UID:4979-1763200800-1763226000@squash.ee
SUMMARY:M-Liiga III etapp
DESCRIPTION:
URL:https://squash.ee/uritus/m-liiga-ii-etapp/
LOCATION:Ihaste Spordimaja\, Pallase pst 20\, Tartu\, 51011\, Eesti
ORGANIZER;CN="Tartu Squashiklubi":MAILTO:ihastespordimaja@gmail.com
END:VEVENT
BEGIN:VEVENT
DTSTART;TZID=Europe/Tallinn:20251115T100000
DTEND;TZID=Europe/Tallinn:20251115T170000
DTSTAMP:20260421T092042
CREATED:20250719T124239Z
LAST-MODIFIED:20250812T032323Z
UID:4981-1763200800-1763226000@squash.ee
SUMMARY:HKV III etapp
DESCRIPTION:
URL:https://squash.ee/uritus/hkv-ii-etapp/
LOCATION:Yolo Squash\, Peterburi tee 2\, Tallinn. T1 keskus\, kolmas korrus\, Tallinn\, Harjumaa\, Eesti
ORGANIZER;CN="Yolo Squash":MAILTO:info@yolosquash.ee
END:VEVENT
END:VCALENDAR