BEGIN:VCALENDAR
VERSION:2.0
PRODID:-//Squash Eesti - ECPv6.11.2//NONSGML v1.0//EN
CALSCALE:GREGORIAN
METHOD:PUBLISH
X-ORIGINAL-URL:https://squash.ee
X-WR-CALDESC:Events for Squash Eesti
REFRESH-INTERVAL;VALUE=DURATION:PT1H
X-Robots-Tag:noindex
X-PUBLISHED-TTL:PT1H
BEGIN:VTIMEZONE
TZID:Europe/Tallinn
BEGIN:DAYLIGHT
TZOFFSETFROM:+0200
TZOFFSETTO:+0300
TZNAME:EEST
DTSTART:20260329T010000
END:DAYLIGHT
BEGIN:STANDARD
TZOFFSETFROM:+0300
TZOFFSETTO:+0200
TZNAME:EET
DTSTART:20261025T010000
END:STANDARD
END:VTIMEZONE
BEGIN:VEVENT
DTSTART;TZID=Europe/Tallinn:20260207T100000
DTEND;TZID=Europe/Tallinn:20260208T170000
DTSTAMP:20260421T020035
CREATED:20250719T125659Z
LAST-MODIFIED:20250719T125715Z
UID:4995-1770458400-1770570000@squash.ee
SUMMARY:Eesti Meistrivõistlused 2026
DESCRIPTION:
URL:https://squash.ee/uritus/eesti-meistrivoistlused-2026/
LOCATION:Yolo Squash\, Peterburi tee 2\, Tallinn. T1 keskus\, kolmas korrus\, Tallinn\, Harjumaa\, Eesti
ORGANIZER;CN="Eesti Squashif%C3%B6deratsioon":MAILTO:info@squash.ee
END:VEVENT
END:VCALENDAR