BEGIN:VCALENDAR
VERSION:2.0
PRODID:-//Squash Eesti - ECPv6.11.2//NONSGML v1.0//EN
CALSCALE:GREGORIAN
METHOD:PUBLISH
X-WR-CALNAME:Squash Eesti
X-ORIGINAL-URL:https://squash.ee
X-WR-CALDESC:Events for Squash Eesti
REFRESH-INTERVAL;VALUE=DURATION:PT1H
X-Robots-Tag:noindex
X-PUBLISHED-TTL:PT1H
BEGIN:VTIMEZONE
TZID:Europe/Tallinn
BEGIN:DAYLIGHT
TZOFFSETFROM:+0200
TZOFFSETTO:+0300
TZNAME:EEST
DTSTART:20260329T010000
END:DAYLIGHT
BEGIN:STANDARD
TZOFFSETFROM:+0300
TZOFFSETTO:+0200
TZNAME:EET
DTSTART:20261025T010000
END:STANDARD
END:VTIMEZONE
BEGIN:VEVENT
DTSTART;TZID=Europe/Tallinn:20260314T100000
DTEND;TZID=Europe/Tallinn:20260314T170000
DTSTAMP:20260420T113128
CREATED:20250719T125936Z
LAST-MODIFIED:20250719T125936Z
UID:4999-1773482400-1773507600@squash.ee
SUMMARY:M-liiga V etapp
DESCRIPTION:
URL:https://squash.ee/uritus/m-liiga-v-etapp/
LOCATION:Ihaste Spordimaja\, Pallase pst 20\, Tartu\, 51011\, Eesti
ORGANIZER;CN="Tartu Squashiklubi":MAILTO:ihastespordimaja@gmail.com
END:VEVENT
BEGIN:VEVENT
DTSTART;TZID=Europe/Tallinn:20260314T100000
DTEND;TZID=Europe/Tallinn:20260314T170000
DTSTAMP:20260420T113128
CREATED:20250719T130030Z
LAST-MODIFIED:20250719T130030Z
UID:5001-1773482400-1773507600@squash.ee
SUMMARY:HKV V etapp
DESCRIPTION:
URL:https://squash.ee/uritus/hkv-v-etapp/
LOCATION:Yolo Squash\, Peterburi tee 2\, Tallinn. T1 keskus\, kolmas korrus\, Tallinn\, Harjumaa\, Eesti
ORGANIZER;CN="Yolo Squash":MAILTO:info@yolosquash.ee
END:VEVENT
END:VCALENDAR