BEGIN:VCALENDAR
VERSION:2.0
PRODID:-//Squash Eesti - ECPv6.11.2//NONSGML v1.0//EN
CALSCALE:GREGORIAN
METHOD:PUBLISH
X-WR-CALNAME:Squash Eesti
X-ORIGINAL-URL:https://squash.ee
X-WR-CALDESC:Events for Squash Eesti
REFRESH-INTERVAL;VALUE=DURATION:PT1H
X-Robots-Tag:noindex
X-PUBLISHED-TTL:PT1H
BEGIN:VTIMEZONE
TZID:UTC
BEGIN:STANDARD
TZOFFSETFROM:+0000
TZOFFSETTO:+0000
TZNAME:UTC
DTSTART:20200101T000000
END:STANDARD
END:VTIMEZONE
BEGIN:VEVENT
DTSTART;TZID=UTC:20201031T080000
DTEND;TZID=UTC:20201031T170000
DTSTAMP:20260421T041156
CREATED:20201030T052438Z
LAST-MODIFIED:20201030T052438Z
UID:2284-1604131200-1604163600@squash.ee
SUMMARY:Pärnumaa MV I etapp
DESCRIPTION:Algus kell 11.00\nAsukoht Pärnu Squashiklubi (Papiniidu 50\, Pärnu)\nRegistreerimine squashiklubi@gmail.com
URL:https://squash.ee/uritus/parnumaa-mv-i-etapp/
LOCATION:Pärnu Squashiklubi\, Papiniidu 50\, Pärnu
ATTACH;FMTTYPE=image/jpeg:https://squash.ee/wp-content/uploads/2020/10/6260-min-1.jpg
END:VEVENT
END:VCALENDAR